BEGIN:VCALENDAR
VERSION:2.0
PRODID:-//UPD CS | Materials Science and Engineering Program - ECPv6.15.12.2//NONSGML v1.0//EN
CALSCALE:GREGORIAN
METHOD:PUBLISH
X-ORIGINAL-URL:https://msep.science.upd.edu.ph
X-WR-CALDESC:Events for UPD CS | Materials Science and Engineering Program
REFRESH-INTERVAL;VALUE=DURATION:PT1H
X-Robots-Tag:noindex
X-PUBLISHED-TTL:PT1H
BEGIN:VTIMEZONE
TZID:Asia/Manila
BEGIN:STANDARD
TZOFFSETFROM:+0800
TZOFFSETTO:+0800
TZNAME:PST
DTSTART:20250101T000000
END:STANDARD
END:VTIMEZONE
BEGIN:VEVENT
DTSTART;TZID=Asia/Manila:20260326T140000
DTEND;TZID=Asia/Manila:20260326T140000
DTSTAMP:20260420T145405
CREATED:20260324T040503Z
LAST-MODIFIED:20260324T051639Z
UID:4715-1774533600-1774533600@msep.science.upd.edu.ph
SUMMARY:Candidacy - Haziel Marie P. Baybayon
DESCRIPTION:Announcement of Candidacy Examination:\nMS. HAZIEL MARIE P. BAYBAYON\nTitle: Amino Acid-Mediated Gold Nanoparticle-Silicon Hybrid Platforms for Optical Molecular Detection\nat 2:00 PM\, Thursday\, March 26\, 2026\nConference Room\, CSRC Bldg\, NSC UP Diliman\nMeeting ID: 934 1065 7906\nPasscode: golden26\n 
URL:https://msep.science.upd.edu.ph/event/candidacy-haziel-marie-p-baybayon/
LOCATION:CSRC Conference Room
ATTACH;FMTTYPE=image/jpeg:https://msep.science.upd.edu.ph/wp-content/uploads/2026/03/hazielcandidacy-e1774329271171.jpg
END:VEVENT
BEGIN:VEVENT
DTSTART;TZID=Asia/Manila:20260414T130000
DTEND;TZID=Asia/Manila:20260414T130000
DTSTAMP:20260420T145405
CREATED:20260408T045347Z
LAST-MODIFIED:20260408T045347Z
UID:4918-1776171600-1776171600@msep.science.upd.edu.ph
SUMMARY:Dissertation Proposal Defense - Rey Ralph H. Virtucio
DESCRIPTION:Announcement of Dissertation Proposal:MR. REY RALPH H. VIRTUCIOTitle: Synthesis and Architectural Tuning of Fe₃O₄/ZIF-8 Nanocompositesat 1:00 PM\, Tuesday\, April 14\, 2026Conference Room\, 2F CSRC Bldg\, NSC UP DilimanMeeting ID: 936 5277 3163Passcode: magnetic
URL:https://msep.science.upd.edu.ph/event/dissertation-proposal-defense-rey-ralph-h-virtucio/
LOCATION:CSRC Conference Room
ATTACH;FMTTYPE=image/jpeg:https://msep.science.upd.edu.ph/wp-content/uploads/2026/04/reyralphproposal-e1775623884492.jpg
END:VEVENT
BEGIN:VEVENT
DTSTART;VALUE=DATE:20260423
DTEND;VALUE=DATE:20260424
DTSTAMP:20260420T145405
CREATED:20260417T081514Z
LAST-MODIFIED:20260417T081514Z
UID:5024-1776902400-1776988799@msep.science.upd.edu.ph
SUMMARY:Deadline for Dropping Subjects [2nd Semester AY 2025-2026]
DESCRIPTION:
URL:https://msep.science.upd.edu.ph/event/deadline-for-dropping-subjects-2nd-semester-ay-2025-2026/
END:VEVENT
BEGIN:VEVENT
DTSTART;VALUE=DATE:20260424
DTEND;VALUE=DATE:20260425
DTSTAMP:20260420T145405
CREATED:20260417T081638Z
LAST-MODIFIED:20260417T081638Z
UID:5028-1776988800-1777075199@msep.science.upd.edu.ph
SUMMARY:Deadline for Filing of CSAPG Appeals
DESCRIPTION:
URL:https://msep.science.upd.edu.ph/event/deadline-for-filing-of-csapg-appeals/
END:VEVENT
BEGIN:VEVENT
DTSTART;TZID=Asia/Manila:20260430T140000
DTEND;TZID=Asia/Manila:20260430T140000
DTSTAMP:20260420T145405
CREATED:20260416T051208Z
LAST-MODIFIED:20260416T051208Z
UID:5003-1777557600-1777557600@msep.science.upd.edu.ph
SUMMARY:Dissertation Proposal - Haziel Marie P. Baybayon
DESCRIPTION:Announcement of Dissertation Proposal:MS. HAZIEL MARIE P. BAYBAYONTitle: Synthesis and Surface Assembly of Amino Acid-capped Gold Nanoparticles on 3D-Engineered Si(100) Surfaces for Optical Molecular Detectionat 2:00 PM\, Thursday\, April 30\, 2026Conference Room\, 2F CSRC Bldg\, NSC UP DilimanMeeting ID: 941 7089 0014Passcode: AuSi(100)
URL:https://msep.science.upd.edu.ph/event/dissertation-proposal-haziel-marie-p-baybayon/
LOCATION:CSRC Conference Room
CATEGORIES:Proposals
ATTACH;FMTTYPE=image/jpeg:https://msep.science.upd.edu.ph/wp-content/uploads/2026/04/hazielproposal-1-e1776316234154.jpg
END:VEVENT
BEGIN:VEVENT
DTSTART;VALUE=DATE:20260507
DTEND;VALUE=DATE:20260508
DTSTAMP:20260420T145405
CREATED:20260417T081554Z
LAST-MODIFIED:20260417T081554Z
UID:5026-1778112000-1778198399@msep.science.upd.edu.ph
SUMMARY:Deadline for Filing LOA
DESCRIPTION:
URL:https://msep.science.upd.edu.ph/event/deadline-for-filing-loa/
END:VEVENT
BEGIN:VEVENT
DTSTART;VALUE=DATE:20260508
DTEND;VALUE=DATE:20260509
DTSTAMP:20260420T145405
CREATED:20260415T032914Z
LAST-MODIFIED:20260415T032914Z
UID:4992-1778198400-1778284799@msep.science.upd.edu.ph
SUMMARY:Deadline for Graduate Program Applications for First Semester AY 2026-2027
DESCRIPTION:Applications to College of Science Graduate Programs for the 1st Semester of AY 2026-2027 are now open. Deadline for applications is on May 08\, 2026.\n\nHOW TO APPLY:\n\nVia College of Science Online Document Portal (ODP) https://online.science.upd.edu.ph/…/application-to…\n– Data Science Program\n– Institute of Environmental Science and Meteorology\n– National Institute of Geological Sciences\n– National Institute of Molecular Biology and Biotechnology\n\nVia Google Form – bit.ly/CSApplicationGradProgram-1st-26-27\n– Institute of Biology\n– Institute of Chemistry\n– Institute of Mathematics\n– Marine Science Institute\n– Materials Science Engineering Program\n– National Institute of Physics
URL:https://msep.science.upd.edu.ph/event/deadline-for-graduate-program-applications-for-first-semester-ay-2026-2027/
ATTACH;FMTTYPE=image/jpeg:https://msep.science.upd.edu.ph/wp-content/uploads/2026/04/12627-Graduate-Admissions-e1776223662949.jpg
END:VEVENT
BEGIN:VEVENT
DTSTART;VALUE=DATE:20260514
DTEND;VALUE=DATE:20260515
DTSTAMP:20260420T145405
CREATED:20260417T024415Z
LAST-MODIFIED:20260417T081814Z
UID:5020-1778716800-1778803199@msep.science.upd.edu.ph
SUMMARY:Deadline for Submission of Thesis/Dissertation Defense Schedule [Midyear 2026]
DESCRIPTION:Please refer to Student Resources for instructions on how to schedule your Thesis/Dissertation Defense.\nTo facilitate the scheduling of your defense\, please accomplish the Google Form below:\n\n\nhttps://forms.gle/9GALYRJyT6Y9fnnV6\n\nOnce your form has been signed by your panel members\, kindly update your submission and upload the SIGNED scheduling form on or before May 13.
URL:https://msep.science.upd.edu.ph/event/deadline-for-submission-of-thesis-dissertation-defense-schedule-midyear-2026/
END:VEVENT
BEGIN:VEVENT
DTSTART;VALUE=DATE:20260603
DTEND;VALUE=DATE:20260604
DTSTAMP:20260420T145405
CREATED:20260417T024111Z
LAST-MODIFIED:20260417T082127Z
UID:5015-1780444800-1780531199@msep.science.upd.edu.ph
SUMMARY:Last Day for Thesis/Dissertation Defense [Midyear 2026]
DESCRIPTION:Please refer to Student Resources for instructions on how to schedule your Defense.\nTo facilitate the scheduling of your defense\, please accomplish the Google Form below:\nhttps://forms.gle/9GALYRJyT6Y9fnnV6\n\nOnce your form has been signed by your panel members\, kindly update your submission and upload the SIGNED scheduling form on or before May 13.
URL:https://msep.science.upd.edu.ph/event/last-day-for-thesis-dissertation-defense-midyear-2026/
END:VEVENT
END:VCALENDAR